View In:
ArcGIS JavaScript
ArcGIS Online Map Viewer
ArcGIS Earth
Service Description: 'Skog etablert før 1940, ikke flatehogd' markere skogarealer som fyller definisjonen “skog i Norge som har en bestandsalder som tilsier at den er etablert før 1940, og som ikke er flatehogd”. Kartet er fremstilt parallelt, men har ulikt utgangspunkt og metodikk enn kartet for 'Naturskogsannsynlighet'.
Name: naturskog/skog_etablert_foer_1940_ikke_flatehogd
Description: 'Skog etablert før 1940, ikke flatehogd' markere skogarealer som fyller definisjonen “skog i Norge som har en bestandsalder som tilsier at den er etablert før 1940, og som ikke er flatehogd”. Kartet er fremstilt parallelt, men har ulikt utgangspunkt og metodikk enn kartet for 'Naturskogsannsynlighet'.
Single Fused Map Cache: false
Extent:
XMin: -75184.0
YMin: 6451040.0
XMax: 1113104.0
YMax: 7939488.0
Spatial Reference: 25833
(25833)
LatestVCSWkid(0)
Initial Extent:
XMin: -75184.0
YMin: 6451040.0
XMax: 1113104.0
YMax: 7939488.0
Spatial Reference: 25833
(25833)
LatestVCSWkid(0)
Full Extent:
XMin: -75184.0
YMin: 6451040.0
XMax: 1113104.0
YMax: 7939488.0
Spatial Reference: 25833
(25833)
LatestVCSWkid(0)
Pixel Size X: 16.0
Pixel Size Y: 16.0
Band Count: 1
Pixel Type: U8
RasterFunction Infos: {"rasterFunctionInfos": [{
"name": "None",
"description": "",
"help": ""
}]}
Mensuration Capabilities: Basic
Inspection Capabilities:
Has Histograms: true
Has Colormap: false
Has Multi Dimensions : false
Rendering Rule:
Min Scale: 0
Max Scale: 0
Resampling: false
Copyright Text:
Service Data Type: esriImageServiceDataTypeGeneric
Min Values: 0
Max Values: 1
Mean Values: 0.34575378984527
Standard Deviation Values: 0.47561340094071
Object ID Field:
Fields:
None
Default Mosaic Method: Center
Allowed Mosaic Methods:
SortField:
SortValue: null
Mosaic Operator: First
Default Compression Quality: 75
Default Resampling Method: Bilinear
Max Record Count: null
Max Image Height: 4100
Max Image Width: 15000
Max Download Image Count: null
Max Mosaic Image Count: null
Allow Raster Function: true
Allow Copy: true
Allow Analysis: true
Allow Compute TiePoints: false
Supports Statistics: false
Supports Advanced Queries: false
Use StandardizedQueries: true
Raster Type Infos:
Name: Raster Dataset
Description: Supports all ArcGIS Raster Datasets
Help:
Has Raster Attribute Table: false
Edit Fields Info: null
Ownership Based AccessControl For Rasters: null
Child Resources:
Info
Histograms
Statistics
Key Properties
Legend
Raster Function Infos
Supported Operations:
Export Image
Identify
Measure
Compute Histograms
Compute Statistics Histograms
Get Samples
Compute Class Statistics
Query Boundary
Compute Pixel Location
Compute Angles
Validate
Project