{
 "currentVersion": 11.3,
 "serviceDescription": "'Naturskogssannsynlighet' gir sannsynlighet for naturskog definert som skog \u201cmed en bestandsalder som tilsier at skogen var etablert før 1940, og der det heller ikke er registrert noen form for tidligere inngrep eller behandling av skogen tilbake til ca. 1965\u201d (Storaunet & Rolstad 2020). Kartet viser sannsynligheten for naturskog med verdier fra 0 (lav sannsynlighet for naturskog) til 100 (høy sannsynlighet for naturskog).",
 "name": "naturskog/naturskogssannsynlighet",
 "description": "'Naturskogssannsynlighet' gir sannsynlighet for naturskog definert som skog \u201cmed en bestandsalder som tilsier at skogen var etablert før 1940, og der det heller ikke er registrert noen form for tidligere inngrep eller behandling av skogen tilbake til ca. 1965\u201d (Storaunet & Rolstad 2020). Kartet viser sannsynligheten for naturskog med verdier fra 0 (lav sannsynlighet for naturskog) til 100 (høy sannsynlighet for naturskog).",
 "extent": {
  "xmin": -75184,
  "ymin": 6451040,
  "xmax": 1113104,
  "ymax": 7939488,
  "spatialReference": {
   "wkid": 25833,
   "latestWkid": 25833
  }
 },
 "initialExtent": {
  "xmin": -75184,
  "ymin": 6451040,
  "xmax": 1113104,
  "ymax": 7939488,
  "spatialReference": {
   "wkid": 25833,
   "latestWkid": 25833
  }
 },
 "fullExtent": {
  "xmin": -75184,
  "ymin": 6451040,
  "xmax": 1113104,
  "ymax": 7939488,
  "spatialReference": {
   "wkid": 25833,
   "latestWkid": 25833
  }
 },
 "sortableFields": "",
 "bandCount": 1,
 "pixelType": "U8",
 "minValues": [
  0
 ],
 "maxValues": [
  99
 ],
 "meanValues": [
  41.114906440919
 ],
 "stdvValues": [
  34.440825332452
 ],
 "hasMultidimensions": false,
 "pixelSizeX": 16,
 "pixelSizeY": 16,
 "meanPixelSize": 16,
 "datasetFormat": "TIFF",
 "uncompressedSize": 6909003504,
 "blockWidth": 512,
 "blockHeight": 512,
 "compressionType": "LZW",
 "bandNames": [
  "Band_1"
 ],
 "allowCopy": true,
 "allowAnalysis": true,
 "itemAccess": false,
 "inspectionCapabilities": "",
 "noDataValue": 255,
 "noDataValues": [
  255
 ],
 "minPixelSize": 0,
 "maxPixelSize": 0,
 "copyrightText": "",
 "serviceDataType": "esriImageServiceDataTypeGeneric",
 "serviceSourceType": "esriImageServiceSourceTypeDataset",
 "objectIdField": "",
 "fields": [],
 "capabilities": "Mensuration,Image,Metadata",
 "defaultMosaicMethod": "Center",
 "allowedMosaicMethods": "",
 "sortField": "",
 "sortValue": null,
 "sortAscending": true,
 "mosaicOperator": "First",
 "defaultCompressionQuality": 75,
 "defaultResamplingMethod": "Bilinear",
 "maxImageHeight": 4100,
 "maxImageWidth": 15000,
 "allowRasterFunction": true,
 "rasterFunctionInfos": [
  {
   "name": "None",
   "description": "",
   "help": ""
  }
 ],
 "rasterTypeInfos": [
  {
   "name": "Raster Dataset",
   "description": "Supports all ArcGIS Raster Datasets",
   "help": ""
  }
 ],
 "mensurationCapabilities": "Basic",
 "hasHistograms": true,
 "hasColormap": false,
 "hasRasterAttributeTable": false,
 "minScale": 0,
 "maxScale": 0,
 "exportTilesAllowed": false,
 "supportsStatistics": false,
 "supportsAdvancedQueries": false,
 "editFieldsInfo": null,
 "ownershipBasedAccessControlForRasters": null,
 "allowComputeTiePoints": false,
 "useStandardizedQueries": true,
 "advancedQueryCapabilities": {
  "useStandardizedQueries": true,
  "supportsStatistics": false,
  "supportsOrderBy": false,
  "supportsDistinct": false,
  "supportsPagination": false
 },
 "spatialReference": {
  "wkid": 25833,
  "latestWkid": 25833
 },
 "resampling": false
}
