{
 "currentVersion": 11.3,
 "serviceDescription": "'Naturskogsnærhet' kan gi kunnskap om mulig forekomst av skogarealer med lavere eller høyere grad av naturskogsnærhet. Dette er delt opp i sju klasser hvor økende verdi angir økende grad av naturskogsnærhet. Graderingen er sammensatt av tre NiN 3.0.-variabler: dødvedandel (KM-DA), dødvedvariasjon (KM-DV) og suksesjon på tresatt mark (AD-ST).\t",
 "name": "naturskog/naturskogsnaerhet",
 "description": "'Naturskogsnærhet' kan gi kunnskap om mulig forekomst av skogarealer med lavere eller høyere grad av naturskogsnærhet. Dette er delt opp i sju klasser hvor økende verdi angir økende grad av naturskogsnærhet. Graderingen er sammensatt av tre NiN 3.0.-variabler: dødvedandel (KM-DA), dødvedvariasjon (KM-DV) og suksesjon på tresatt mark (AD-ST).\t",
 "extent": {
  "xmin": -75184,
  "ymin": 6451040,
  "xmax": 1113104,
  "ymax": 7939488,
  "spatialReference": {
   "wkid": 25833,
   "latestWkid": 25833
  }
 },
 "initialExtent": {
  "xmin": -75184,
  "ymin": 6451040,
  "xmax": 1113104,
  "ymax": 7939488,
  "spatialReference": {
   "wkid": 25833,
   "latestWkid": 25833
  }
 },
 "fullExtent": {
  "xmin": -75184,
  "ymin": 6451040,
  "xmax": 1113104,
  "ymax": 7939488,
  "spatialReference": {
   "wkid": 25833,
   "latestWkid": 25833
  }
 },
 "sortableFields": "",
 "bandCount": 1,
 "pixelType": "U8",
 "minValues": [
  1
 ],
 "maxValues": [
  7
 ],
 "meanValues": [
  2.0496088807613
 ],
 "stdvValues": [
  1.4876447615098
 ],
 "hasMultidimensions": false,
 "pixelSizeX": 16,
 "pixelSizeY": 16,
 "meanPixelSize": 16,
 "datasetFormat": "TIFF",
 "uncompressedSize": 6909003504,
 "blockWidth": 512,
 "blockHeight": 512,
 "compressionType": "LZW",
 "bandNames": [
  "Band_1"
 ],
 "allowCopy": true,
 "allowAnalysis": true,
 "itemAccess": false,
 "inspectionCapabilities": "",
 "noDataValue": 255,
 "noDataValues": [
  255
 ],
 "minPixelSize": 0,
 "maxPixelSize": 0,
 "copyrightText": "",
 "serviceDataType": "esriImageServiceDataTypeGeneric",
 "serviceSourceType": "esriImageServiceSourceTypeDataset",
 "objectIdField": "",
 "fields": [],
 "capabilities": "Mensuration,Image,Metadata",
 "defaultMosaicMethod": "Center",
 "allowedMosaicMethods": "",
 "sortField": "",
 "sortValue": null,
 "sortAscending": true,
 "mosaicOperator": "First",
 "defaultCompressionQuality": 75,
 "defaultResamplingMethod": "Bilinear",
 "maxImageHeight": 4100,
 "maxImageWidth": 15000,
 "allowRasterFunction": true,
 "rasterFunctionInfos": [
  {
   "name": "None",
   "description": "",
   "help": ""
  }
 ],
 "rasterTypeInfos": [
  {
   "name": "Raster Dataset",
   "description": "Supports all ArcGIS Raster Datasets",
   "help": ""
  }
 ],
 "mensurationCapabilities": "Basic",
 "hasHistograms": true,
 "hasColormap": false,
 "hasRasterAttributeTable": false,
 "minScale": 0,
 "maxScale": 0,
 "exportTilesAllowed": false,
 "supportsStatistics": false,
 "supportsAdvancedQueries": false,
 "editFieldsInfo": null,
 "ownershipBasedAccessControlForRasters": null,
 "allowComputeTiePoints": false,
 "useStandardizedQueries": true,
 "advancedQueryCapabilities": {
  "useStandardizedQueries": true,
  "supportsStatistics": false,
  "supportsOrderBy": false,
  "supportsDistinct": false,
  "supportsPagination": false
 },
 "spatialReference": {
  "wkid": 25833,
  "latestWkid": 25833
 },
 "resampling": false
}
